BEGIN:VCALENDAR
VERSION:2.0
PRODID:-//CiviCRM//NONSGML CiviEvent iCal//EN
X-WR-TIMEZONE:America/New_York
METHOD:PUBLISH
BEGIN:VTIMEZONE
TZID:America/New_York
BEGIN:DAYLIGHT
TZOFFSETFROM:-0400
TZOFFSETTO:-0400
TZNAME:EDT
DTSTART:20260522T083000
END:DAYLIGHT
END:VTIMEZONE
BEGIN:VEVENT
UID:CiviCRM_EventID_1673_8956e17444ee51ed2535655e1f22898a@www.cagp-acpdp.org/en
SUMMARY:ACPDP Section du Québec | Café Philanthropique de 
 Mai Édition Volonté de faire
X-ALT-DESC;FMTTYPE=text/html:<!DOCTYPE HTML PUBLIC
  "-//W3C//DTD HTML 3.2//EN"><html><body><p>FR | L’
 ACPDP – Section du Québec est fière de vous invite
 r au Café philanthropique<br />\n de Mai\, en fran
 çais\, sous le thème de la campagne Volonté de fai
 re !<br />\n <br />\n La campagne Volonté de faire
  est un effort d’éducation du public. Elle incite 
 les<br />\n gens à envisager différemment les dons
  aux organismes de bienfaisance et à<br />\n utili
 ser leur testament pour apporter une contribution 
 substantielle.<br />\n <br />\n Lors de ce rassemb
 lement gratuit\, ouvert à tous les niveaux d’exper
 tise\, vous<br />\n aurez l’occasion de rencontrer
  et d’échanger virtuellement (via Zoom) avec<br />
 \n d’autres professionnels du milieu philanthropiq
 ue. Vous pourrez en apprendre<br />\n davantage su
 r la campagne Volonté de faire de l’ACPDP\, ses pa
 rticularités\, ses<br />\n retombées\, ainsi que s
 ur l’expérience d’organismes partenaires.<br />\n 
 <br />\n EN | The CAGP – Quebec Chapter is proud t
 o invite you to the May Philanthropic Café\, in fr
 ench\, under the theme of the “Will Power” campaig
 n!<br />\n <br />\n The Will Power campaign is a p
 ublic education initiative. It encourages people t
 o think differently about charitable giving and to
  consider using their will to make a meaningful co
 ntribution.<br />\n <br />\n During this free gath
 ering\, open to all levels of expertise\, you will
  have the opportunity to meet and connect virtuall
 y (via Zoom) with other professionals in the phila
 nthropic sector. You’ll also learn more about the 
 CAGP’s Will Power campaign—its unique features\, i
 ts impact\, and the experiences of partner organiz
 ations.</p></body></html>
DESCRIPTION:FR | L’ACPDP – Section du Québec est fière de vous
  inviter au Café philanthropique\n \n de Mai\, en 
 français\, sous le thème de la campagne Volonté de
  faire !\n \n \n \n La campagne Volonté de faire e
 st un effort d’éducation du public. Elle incite le
 s\n \n gens à envisager différemment les dons aux 
 organismes de bienfaisance et à\n \n utiliser leur
  testament pour apporter une contribution substant
 ielle.\n \n \n \n Lors de ce rassemblement gratuit
 \, ouvert à tous les niveaux d’expertise\, vous\n 
 \n aurez l’occasion de rencontrer et d’échanger vi
 rtuellement (via Zoom) avec\n \n d’autres professi
 onnels du milieu philanthropique. Vous pourrez en 
 apprendre\n \n davantage sur la campagne Volonté d
 e faire de l’ACPDP\, ses particularités\, ses\n \n
  retombées\, ainsi que sur l’expérience d’organism
 es partenaires.\n \n \n \n EN | The CAGP – Quebec 
 Chapter is proud to invite you to the May Philanth
 ropic Café\, in french\, under the theme of the “W
 ill Power” campaign!\n \n \n \n The Will Power cam
 paign is a public education initiative. It encoura
 ges people to think differently about charitable g
 iving and to consider using their will to make a m
 eaningful contribution.\n \n \n \n During this fre
 e gathering\, open to all levels of expertise\, yo
 u will have the opportunity to meet and connect vi
 rtually (via Zoom) with other professionals in the
  philanthropic sector. You’ll also learn more abou
 t the CAGP’s Will Power campaign—its unique featur
 es\, its impact\, and the experiences of partner o
 rganizations.\n \n 
CATEGORIES:Chapter Event
CALSCALE:GREGORIAN
DTSTAMP;TZID=America/New_York:20260522T083000
DTSTART;TZID=America/New_York:20260522T083000
DTEND;TZID=America/New_York:20260522T093000
LOCATION:Online - Quebec\n 
URL:https://www.cagp-acpdp.org/en/civicrm/event/info?reset=1&id=1673
END:VEVENT
END:VCALENDAR
